BEGIN:VCALENDAR
VERSION:2.0
PRODID:-//RIGHTHERE//CALENDARIZE IT V3.2//EN
BEGIN:VEVENT
UID:37068-events@dullmensclub.com
DTSTART;VALUE=DATE:20240519
DTEND;VALUE=DATE:20240519
DTSTAMP:20240516T183347Z
SUMMARY:Arlesford Watercress Festival (UK) — Sunday\, 19 May
URL:https://dullmensclub.com/event/arlesford-watercress-festival-2/
END:VEVENT
END:VCALENDAR