BEGIN:VCALENDAR
VERSION:2.0
PRODID:-//RIGHTHERE//CALENDARIZE IT V3.2//EN
BEGIN:VEVENT
UID:35928-events@dullmensclub.com
DTSTART;VALUE=DATE:20230826
DTEND;VALUE=DATE:20230826
DTSTAMP:20230823T102418Z
SUMMARY:Sandwich Festival
URL:https://dullmensclub.com/event/sandwoch-festival/
END:VEVENT
END:VCALENDAR