BEGIN:VCALENDAR
VERSION:2.0
PRODID:-//RIGHTHERE//CALENDARIZE IT V3.2//EN
BEGIN:VEVENT
UID:30516-events@dullmensclub.com
DTSTART;VALUE=DATE:20210508
DTEND;VALUE=DATE:20210508
DTSTAMP:20210502T012347Z
SUMMARY:National (Holland) Windmill Day
URL:https://dullmensclub.com/event/national-holland-windmill-day/
END:VEVENT
END:VCALENDAR